BEGIN:VCALENDAR
VERSION:2.0
PRODID:-//hacksw/handcal//NONSGML v1.0//EN
CALSCALE:GREGORIAN
BEGIN:VTIMEZONE
TZID:America/Edmonton
BEGIN:DAYLIGHT
TZOFFSETFROM:-0600
TZNAME:MDT
TZOFFSETTO:-0600
END:DAYLIGHT
END:VTIMEZONE
DTSTAMP:20260421T092015Z
UID:69e795af8803f
BEGIN:VEVENT
DESCRIPTION:<p>Learn the basics of computer programming.</p>

DTSTART;TZID=America/Edmonton:20260801T100000
DTEND;TZID=America/Edmonton:20260801T080000
SUMMARY:Introduction to Computer Programming
URL;VALUE=URI:/introduction-computer-programming-9
END:VEVENT
END:VCALENDAR