BEGIN:VCALENDAR
VERSION:2.0
PRODID:-//hacksw/handcal//NONSGML v1.0//EN
CALSCALE:GREGORIAN
BEGIN:VTIMEZONE
TZID:America/Edmonton
BEGIN:DAYLIGHT
TZOFFSETFROM:-0600
TZNAME:MDT
TZOFFSETTO:-0600
END:DAYLIGHT
END:VTIMEZONE
DTSTAMP:20260421T092348Z
UID:69e79684d162b
BEGIN:VEVENT
LOCATION:Wilson Memorial Library, 4445 Calgary Trail NW, Edmonton, AB CA T6H 5R7
DESCRIPTION:<p>Teach your kids the basics for food safety and preparation, and learn basic cooking skills.</p>

DTSTART;TZID=America/Edmonton:20260718T140000
DTEND;TZID=America/Edmonton:20260718T080000
SUMMARY:Cooking for Kids
URL;VALUE=URI:/cooking-kids-43
END:VEVENT
END:VCALENDAR