BEGIN:VCALENDAR
VERSION:2.0
PRODID:-//hacksw/handcal//NONSGML v1.0//EN
CALSCALE:GREGORIAN
BEGIN:VTIMEZONE
TZID:America/Edmonton
BEGIN:DAYLIGHT
TZOFFSETFROM:-0600
TZNAME:MDT
TZOFFSETTO:-0600
END:DAYLIGHT
END:VTIMEZONE
DTSTAMP:20260421T073223Z
UID:69e77c67ccddf
BEGIN:VEVENT
LOCATION:Wilson Memorial Library, 4445 Calgary Trail NW, Edmonton, AB CA T6H 5R7
DESCRIPTION:<p>Join us every Friday night during the month of February for a family movie night.</p>

DTSTART;TZID=America/Edmonton:20260417T190000
DTEND;TZID=America/Edmonton:20260417T213000
SUMMARY:Movie Nights
URL;VALUE=URI:/movie-nights-44
END:VEVENT
END:VCALENDAR